BEGIN:VCALENDAR
VERSION:2.0
PRODID:-//wp-events-plugin.com//7.2.3.1//EN
TZID:America/New_York
X-WR-TIMEZONE:America/New_York
BEGIN:VEVENT
UID:8@pennh.25comm.com
DTSTART;TZID=America/New_York:20260423T180000
DTEND;TZID=America/New_York:20260423T200000
DTSTAMP:20251125T155225Z
URL:https://pennh.25comm.com/events/student-engagement-awards/
SUMMARY:Student Engagement Awards
DESCRIPTION:The Student Engagement Awards Ceremony recognizes students who 
 have achieved the highest academic level in their respective programs.\n\n
  	Date/Time: Thursday\, April 23rd at 6 PM\n 	Location: Richland Campus\n
  	Questions: Contact Sue Brugh by phone at 814.262.6463 or by email by c
 licking here.\n\nAwards are given to students who have achieved the highes
 t academic level in their respective programs\, as well as those who will 
 be inducted into the National Society of Leadership and Success and Phi Th
 eta Kappa. Club awards are also given to those students involved in their 
 respective clubs. The club awards are based on both leadership and service
 . The nominations for the Distinguished Graduate Award will also be presen
 ted during this ceremony. The Distinguished Graduate accolade recognizes a
  student who has dedicated their time and efforts to enriching Pennsylvani
 a Highlands Community College and the surrounding community while upholdin
 g an exemplary academic record. The Distinguished Graduate Award will be p
 resented at this year's Commencement.\n\nIn addition to being an in-person
  event\, you can watch a live stream on the College's YouTube channel.\n\n
 [su_youtube url="https://www.youtube.com/embed/YopL8DvsV_k?si=te4YEbvE99wY
 l_n-" title="Student Engagement Awards Ceremony"]\n\n&nbsp\;
ATTACH;FMTTYPE=image/jpeg:https://pennh.25comm.com/wp-content/uploads/2019
 /02/Featured-News-CollegeSealCrest.jpg
CATEGORIES:Blair Center,Ceremonies,Ebensburg Center,Huntingdon
 Center,Richland Campus,Somerset Center
LOCATION:Penn Highlands Richland\, 101 Community College Way\, Johnstown\, 
 PA\, 15904\, United States
GEO:40.2640611;-78.8369429
X-APPLE-STRUCTURED-LOCATION;VALUE=URI;X-ADDRESS=101 Community College Way\,
  Johnstown\, PA\, 15904\, United States;X-APPLE-RADIUS=100;X-TITLE=Penn Hi
 ghlands Richland:geo:40.2640611,-78.8369429
END:VEVENT
BEGIN:VTIMEZONE
TZID:America/New_York
X-LIC-LOCATION:America/New_York
BEGIN:DAYLIGHT
DTSTART:20260308T030000
TZOFFSETFROM:-0500
TZOFFSETTO:-0400
TZNAME:EDT
END:DAYLIGHT
END:VTIMEZONE
END:VCALENDAR